BEGIN:VCALENDAR
VERSION:2.0
PRODID:-//université constantine3 salah boubnider
CALSCALE:GREGORIAN
METHOD:PUBLISH
X-WR-CALNAME:université constantine3 salah boubnider
X-ORIGINAL-URL:https://univ-constantine3.dz/event/%d8%a7%d9%84%d8%a8%d8%b7%d9%88%d9%84%d8%a9-%d8%a7%d9%84%d9%88%d8%b7%d9%86%d9%8a%d8%a9-%d9%84%d9%84%d9%83%d8%a7%d8%b1%d8%a7%d8%aa%d9%8a-%d8%af%d9%88/
X-WR-CALDESC:البطولة الوطنية للكاراتي دو
BEGIN:VEVENT
DTSTART:20200226T083000
DTEND:20200301T160000
SUMMARY:البطولة الوطنية للكاراتي دو
DESCRIPTION:
LOCATION:
END:VEVENT
END:VCALENDAR
