BEGIN:VCALENDAR
VERSION:2.0
PRODID:-//université constantine3 salah boubnider
CALSCALE:GREGORIAN
METHOD:PUBLISH
X-WR-CALNAME:université constantine3 salah boubnider
X-ORIGINAL-URL:https://univ-constantine3.dz/event/1salon-national-des-constructions-modernes-et-des-nouvelles-technologies/
X-WR-CALDESC:1Salon National des Constructions Modernes et des Nouvelles Technologies
BEGIN:VEVENT
DTSTART:20200316T000000
DTEND:20200319T000000
SUMMARY:1Salon National des Constructions Modernes et des Nouvelles Technologies
DESCRIPTION:
LOCATION:Complexe Culturel Zénith Ahmed Bey - Constantine -
END:VEVENT
END:VCALENDAR
