BEGIN:VCALENDAR
VERSION:2.0
PRODID:-//université constantine3 salah boubnider
CALSCALE:GREGORIAN
METHOD:PUBLISH
X-WR-CALNAME:université constantine3 salah boubnider
X-ORIGINAL-URL:https://univ-constantine3.dz/event/celebration-de-la-journee-de-la-viille-algerienne/
X-WR-CALDESC:CELEBRATION DE LA JOURNEE DE LA VIILLE ALGERIENNE
BEGIN:VEVENT
DTSTART:20200223T000000
DTEND:20200224T000000
SUMMARY:CELEBRATION DE LA JOURNEE DE LA VIILLE ALGERIENNE
DESCRIPTION:
LOCATION:Salle de conférences de la Faculté d'architecture et d'urbanisme
END:VEVENT
END:VCALENDAR
