BEGIN:VCALENDAR
VERSION:2.0
PRODID:-//université constantine3 salah boubnider
CALSCALE:GREGORIAN
METHOD:PUBLISH
X-WR-CALNAME:université constantine3 salah boubnider
X-ORIGINAL-URL:https://univ-constantine3.dz/event/%d8%a7%d9%84%d8%a5%d8%b9%d9%84%d8%a7%d9%85-%d8%a7%d9%84%d8%ac%d8%b2%d8%a7%d8%a6%d8%b1%d9%8a-%d8%a8%d9%8a%d9%86-%d8%a7%d9%84%d8%b1%d8%a4%d9%8a%d8%a9-%d8%a7%d9%84%d8%a3%d9%83%d8%a7%d8%af%d9%8a%d9%85/
X-WR-CALDESC:الإعلام الجزائري بين الرؤية الأكاديمية و المتطلبات المهنية
BEGIN:VEVENT
DTSTART:20200415T000000
DTEND:
SUMMARY:الإعلام الجزائري بين الرؤية الأكاديمية و المتطلبات المهنية
DESCRIPTION:
LOCATION:قاعة المحاظرات الكبرى بكلية علوم الإعلام و الإتصال السمعي البصري
END:VEVENT
END:VCALENDAR
