BEGIN:VCALENDAR
VERSION:2.0
PRODID:-//université constantine3 salah boubnider
CALSCALE:GREGORIAN
METHOD:PUBLISH
X-WR-CALNAME:université constantine3 salah boubnider
X-ORIGINAL-URL:https://univ-constantine3.dz/event/le-deuxieme-colloque-international/
X-WR-CALDESC:Le Deuxième Colloque International
BEGIN:VEVENT
DTSTART:20200905T000000
DTEND:20200906T000000
SUMMARY:Le Deuxième Colloque International
DESCRIPTION:Formation Universitaire et Environnement Socio-économique : La gouvernance à l’université
LOCATION:
END:VEVENT
END:VCALENDAR
