BEGIN:VCALENDAR
VERSION:2.0
PRODID:-//université constantine3 salah boubnider
CALSCALE:GREGORIAN
METHOD:PUBLISH
X-WR-CALNAME:université constantine3 salah boubnider
X-ORIGINAL-URL:https://univ-constantine3.dz/event/larticle-scientifique-comment-reussir-sa-publication-2/
X-WR-CALDESC:L’article scientifique : comment réussir sa publication ?
BEGIN:VEVENT
DTSTART:20210523T000000
DTEND:20210527T000000
SUMMARY:L’article scientifique : comment réussir sa publication ?
DESCRIPTION:LA PREMIÈRE SEMAINE DE VULGARISATION DE LA RECHERCHE SCIENTIFIQUE.
LOCATION:Salle des conférence /faculté des sciences de l'information et de la communication.
END:VEVENT
END:VCALENDAR
