BEGIN:VCALENDAR
VERSION:2.0
PRODID:-//université constantine3 salah boubnider
CALSCALE:GREGORIAN
METHOD:PUBLISH
X-WR-CALNAME:université constantine3 salah boubnider
X-ORIGINAL-URL:https://univ-constantine3.dz/event/atelier-sur-les-techniques-denquete-de-terrain-echantillonnage-questionnaire-et-pratique-sur-terrain/
X-WR-CALDESC:Atelier sur les techniques d’enquête de terrain : échantillonnage, questionnaire et pratique sur terrain.
BEGIN:VEVENT
DTSTART:20210530T000000
DTEND:
SUMMARY:Atelier sur les techniques d’enquête de terrain : échantillonnage, questionnaire et pratique sur terrain.
DESCRIPTION:دورة تكوينية مجانية و مفتوحة لطلبة الدكتوراه.

تنظم هذه المحاضرات و الورشات على مستوى كلية الإعلام و الإتصال - جامعة قسنطينة 3.

 
LOCATION:Auditorium de la faculté des Sciences de l'Information et de la Communication- UC3.
END:VEVENT
END:VCALENDAR
