BEGIN:VCALENDAR
VERSION:2.0
PRODID:-//université constantine3 salah boubnider
CALSCALE:GREGORIAN
METHOD:PUBLISH
X-WR-CALNAME:université constantine3 salah boubnider
X-ORIGINAL-URL:https://univ-constantine3.dz/event/%d8%a7%d9%84%d8%aa%d8%ad%d9%84%d9%8a%d9%84-%d8%a7%d9%84%d8%a5%d8%ad%d8%b5%d8%a7%d8%a6%d9%8a-%d9%84%d9%84%d8%a8%d9%8a%d8%a7%d9%86%d8%a7%d8%aa-spss/
X-WR-CALDESC:التحليل الإحصائي للبيانات SPSS
BEGIN:VEVENT
DTSTART:20211207T083000
DTEND:20211208T170000
SUMMARY:التحليل الإحصائي للبيانات SPSS
DESCRIPTION:هل إحصاء بياناتك في الدراسة الميدانية يعرقل تقدمك في البحث؟ 
هل لديك إشكالات منهجية ترغب في إيجاد حلول لها؟
يسر جامعة قسنطينة 3 إعلامكم بتنظيم دورة تكوينية  حول 'التحليل الإحصائي للبيانات " وتتضمن ثلاث ورشات متزامنة
LOCATION:
END:VEVENT
END:VCALENDAR
