BEGIN:VCALENDAR
VERSION:2.0
PRODID:-//université constantine3 salah boubnider
CALSCALE:GREGORIAN
METHOD:PUBLISH
X-WR-CALNAME:université constantine3 salah boubnider
X-ORIGINAL-URL:https://univ-constantine3.dz/event/programme-docteur-entrepreneur/
X-WR-CALDESC:programme : Docteur- Entrepreneur
BEGIN:VEVENT
DTSTART:
DTEND:
SUMMARY:programme : Docteur- Entrepreneur
DESCRIPTION:destinée au doctorants durant l'année universitaire 2022/2023
LOCATION:
END:VEVENT
END:VCALENDAR
