BEGIN:VCALENDAR
VERSION:2.0
PRODID:-//université constantine3 salah boubnider
CALSCALE:GREGORIAN
METHOD:PUBLISH
X-WR-CALNAME:université constantine3 salah boubnider
X-ORIGINAL-URL:https://univ-constantine3.dz/event/la-croissance-normale-pathologique/
X-WR-CALDESC:la croissance normale pathologique
BEGIN:VEVENT
DTSTART:20221001T000000
DTEND:20221001T000000
SUMMARY:la croissance normale pathologique
DESCRIPTION:Thème principal :
Anomalies de la croissance et de la Puberté

LOCATION:auditorium de la faculté de médecine-Pôle Universitaire de Constantine 3, Ali Mendjeli.
END:VEVENT
END:VCALENDAR
