BEGIN:VCALENDAR
VERSION:2.0
PRODID:-//université constantine3 salah boubnider
CALSCALE:GREGORIAN
METHOD:PUBLISH
X-WR-CALNAME:université constantine3 salah boubnider
X-ORIGINAL-URL:https://univ-constantine3.dz/event/semaine-de-la-recherche-scientifique/
X-WR-CALDESC:Semaine de la Recherche Scientifique
BEGIN:VEVENT
DTSTART:20230506T000000
DTEND:20230510T000000
SUMMARY:Semaine de la Recherche Scientifique
DESCRIPTION:La troisième édition de La semaine de la Recherche Scientifique sous le slogan "Progress in science is Progress in humanity"
LOCATION:Faculté des Sciences de l'information de la communication et de l'Audio visuel et la faculté de génie des procédés
END:VEVENT
END:VCALENDAR
