BEGIN:VCALENDAR
VERSION:2.0
PRODID:-//université constantine3 salah boubnider
CALSCALE:GREGORIAN
METHOD:PUBLISH
X-WR-CALNAME:université constantine3 salah boubnider
X-ORIGINAL-URL:https://univ-constantine3.dz/ar/event/%d8%a7%d9%84%d9%8a%d9%88%d9%85-%d8%a7%d9%84%d8%b9%d8%a7%d9%84%d9%85%d9%8a-%d9%84%d9%84%d9%85%d9%84%d9%83%d9%8a%d8%a9-%d8%a7%d9%84%d9%81%d9%83%d8%b1%d9%8a%d8%a9-27-%d8%a3%d8%a8%d8%b1%d9%8a%d9%84-2021/
X-WR-CALDESC:اليوم العالمي للملكية الفكرية 27 أبريل 2021
BEGIN:VEVENT
DTSTART:
DTEND:
SUMMARY:اليوم العالمي للملكية الفكرية 27 أبريل 2021
DESCRIPTION:مكتب الملكية الفكرية ومركز دعم التكنولوجيا والابتكار BPI-CATI-UC3
ينظم بالشراكة مع غرفة تجارة قسنطينة ، INAPI و
يوم الويبو للإعلام والتوعية للاحتفال باليوم العالمي

الملكية الفكرية تحت شعار:
الملكية الفكرية والشركات الصغيرة والمتوسطة
تسويق أفكارك
(في البرنامج: مؤتمر - مناظرة مع متخصصين في المجال
نرحب بجميع الشركات)
LOCATION:كلية هندسة العمليات من الساعة 10:15 صباحاً.
END:VEVENT
END:VCALENDAR
