BEGIN:VCALENDAR
VERSION:2.0
PRODID:-//université constantine3 salah boubnider
CALSCALE:GREGORIAN
METHOD:PUBLISH
X-WR-CALNAME:université constantine3 salah boubnider
X-ORIGINAL-URL:https://univ-constantine3.dz/ar/event/%d9%88%d8%b1%d8%b4%d8%a9-%d8%b9%d9%85%d9%84-%d8%ad%d9%88%d9%84-%d8%aa%d9%82%d9%86%d9%8a%d8%a7%d8%aa-%d8%a7%d9%84%d9%85%d8%b3%d8%ad-%d8%a7%d9%84%d9%85%d9%8a%d8%af%d8%a7%d9%86%d9%8a-%d8%a3%d8%ae%d8%b0/
X-WR-CALDESC:ورشة عمل حول تقنيات المسح الميداني: أخذ العينات والاستبانة والممارسة الميدانية.
BEGIN:VEVENT
DTSTART:
DTEND:
SUMMARY:ورشة عمل حول تقنيات المسح الميداني: أخذ العينات والاستبانة والممارسة الميدانية.
DESCRIPTION:دورة تكوينية مجانية مفتوحة لطلبة الدكتوراه.

تدير هذه المحاضرات و الورشات على مستوى كلية الإعلام و الإتصال - سامعن سامعن.

 
LOCATION:قاعة محاضرات كلية الإعلام وعلوم الاتصال - UC3.
END:VEVENT
END:VCALENDAR
