BEGIN:VCALENDAR
VERSION:2.0
PRODID:-//université constantine3 salah boubnider
CALSCALE:GREGORIAN
METHOD:PUBLISH
X-WR-CALNAME:université constantine3 salah boubnider
X-ORIGINAL-URL:https://univ-constantine3.dz/ar/event/%d9%8a%d9%88%d9%85-%d8%aa%d8%ad%d8%b3%d9%8a%d8%b3%d9%8a-%d8%aa%d8%ad%d8%aa-%d8%b4%d8%b9%d8%a7%d8%b1-%d9%85%d9%86-%d8%a3%d8%ac%d9%84-%d8%b3%d9%86%d8%a9-%d8%b5%d8%ad%d9%8a%d8%a9/
X-WR-CALDESC:يوم تحسيسي تحت شعار &#8220;من أجل سنة صحية
BEGIN:VEVENT
DTSTART:
DTEND:
SUMMARY:يوم تحسيسي تحت شعار &#8220;من أجل سنة صحية
DESCRIPTION:يوم تحسيسي تحت شعار "من أجل سنة صحية

LOCATION:
END:VEVENT
END:VCALENDAR
