BEGIN:VCALENDAR
VERSION:2.0
PRODID:-//université constantine3 salah boubnider
CALSCALE:GREGORIAN
METHOD:PUBLISH
X-WR-CALNAME:université constantine3 salah boubnider
X-ORIGINAL-URL:https://univ-constantine3.dz/ar/event/%d9%85%d9%82%d8%af%d9%85%d8%a9-%d9%81%d9%8a-%d9%85%d9%86%d9%87%d8%ac%d9%8a%d8%a7%d8%aa-%d8%a7%d9%84%d8%a8%d8%ad%d8%ab-%d9%88%d8%a7%d9%84%d9%85%d9%82%d8%a7%d8%b1%d8%a8%d8%a7%d8%aa-%d8%a7%d9%84%d9%83/
X-WR-CALDESC:مقدمة في منهجيات البحث والمقاربات الكمية والنوعية
BEGIN:VEVENT
DTSTART:
DTEND:
SUMMARY:مقدمة في منهجيات البحث والمقاربات الكمية والنوعية
DESCRIPTION:05/25/2021: مؤتمر وورشة عمل عبر الإنترنت 
LOCATION:قاعة كلية الإعلام وعلوم الاتصال
END:VEVENT
END:VCALENDAR
