BEGIN:VCALENDAR
VERSION:2.0
PRODID:-//université constantine3 salah boubnider
CALSCALE:GREGORIAN
METHOD:PUBLISH
X-WR-CALNAME:université constantine3 salah boubnider
X-ORIGINAL-URL:https://univ-constantine3.dz/ar/event/%d9%85%d9%84%d8%aa%d9%82%d9%89-%d9%88%d8%b7%d9%86%d9%8a/
X-WR-CALDESC:ملتقى وطني
BEGIN:VEVENT
DTSTART:20240306T000000
DTEND:
SUMMARY:ملتقى وطني
DESCRIPTION:
LOCATION:
END:VEVENT
END:VCALENDAR
