BEGIN:VCALENDAR
VERSION:2.0
PRODID:-//université constantine3 salah boubnider
CALSCALE:GREGORIAN
METHOD:PUBLISH
X-WR-CALNAME:université constantine3 salah boubnider
X-ORIGINAL-URL:https://univ-constantine3.dz/ar/event/%d9%8a%d9%88%d9%85-%d8%af%d8%b1%d8%a7%d8%b3%d9%8a-%d8%ad%d9%88%d9%84-%d8%a7%d9%84%d8%b6%d9%88%d8%a7%d8%a8%d8%b7-%d8%a7%d9%84%d9%85%d9%86%d9%87%d8%ac%d9%8a%d8%a9-%d9%84%d8%a5%d8%b9%d8%af%d8%a7%d8%af/
X-WR-CALDESC:يوم دراسي حول الضوابط المنهجية لإعداد مذكرة التخرج في بحوث السمعي البصري
BEGIN:VEVENT
DTSTART:20240220T000000
DTEND:
SUMMARY:يوم دراسي حول الضوابط المنهجية لإعداد مذكرة التخرج في بحوث السمعي البصري
DESCRIPTION:
LOCATION:
END:VEVENT
END:VCALENDAR
