BEGIN:VCALENDAR
VERSION:2.0
PRODID:-//université constantine3 salah boubnider
CALSCALE:GREGORIAN
METHOD:PUBLISH
X-WR-CALNAME:université constantine3 salah boubnider
X-ORIGINAL-URL:https://univ-constantine3.dz/ar/event/%d8%a3%d9%8a%d8%a7%d9%85-%d8%aa%d8%ad%d8%b3%d9%8a%d8%b3%d9%8a%d8%a9-%d8%ad%d9%88%d9%84-%d8%a7%d9%84%d9%85%d9%84%d9%83%d9%8a%d8%a9-%d8%a7%d9%84%d9%81%d9%83%d8%b1%d9%8a%d8%a9/
X-WR-CALDESC:أيام تحسيسية حول الملكية الفكرية
BEGIN:VEVENT
DTSTART:20240226T090000
DTEND:20240226T160000
SUMMARY:أيام تحسيسية حول الملكية الفكرية
DESCRIPTION: تهدف هذه الإيام إلى التعريف بالمركز و أساسيات حول الملكية الفكرية و حمايتها، سياسة الملكية الفكرية للجامعة و  الاجراءات العملية للحماية مع عرض نماذج من كل كلية
LOCATION:معهد تسيير التقنيات الحضرية
END:VEVENT
END:VCALENDAR
