BEGIN:VCALENDAR
VERSION:2.0
PRODID:-//université constantine3 salah boubnider
CALSCALE:GREGORIAN
METHOD:PUBLISH
X-WR-CALNAME:université constantine3 salah boubnider
X-ORIGINAL-URL:https://univ-constantine3.dz/ar/event/%d8%a7%d9%84%d8%a5%d8%ad%d8%aa%d9%81%d8%a7%d9%84-%d8%a8%d8%a7%d9%84%d9%8a%d9%88%d9%85-%d8%a7%d9%84%d8%b9%d8%a7%d9%84%d9%85%d9%8a-%d9%84%d9%84%d8%a8%d9%8a%d8%a6%d8%a9/
X-WR-CALDESC:الإحتفال باليوم العالمي للبيئة
BEGIN:VEVENT
DTSTART:
DTEND:20240604T000000
SUMMARY:الإحتفال باليوم العالمي للبيئة
DESCRIPTION:كلية هندسة الطرائق بجامعة قسنطينة 3 صالح بوبنيدر
LOCATION:قاعة المحاضرات الكبرى بكلية هندسة الطرائق
END:VEVENT
END:VCALENDAR
