BEGIN:VCALENDAR
VERSION:2.0
PRODID:-//université constantine3 salah boubnider
CALSCALE:GREGORIAN
METHOD:PUBLISH
X-WR-CALNAME:université constantine3 salah boubnider
X-ORIGINAL-URL:https://univ-constantine3.dz/en/event/workshop-on-field-survey-techniques-sampling-questionnaire-and-field-practice/
X-WR-CALDESC:Workshop on field survey techniques: sampling, questionnaire and field practice.
BEGIN:VEVENT
DTSTART:
DTEND:
SUMMARY:Workshop on field survey techniques: sampling, questionnaire and field practice.
DESCRIPTION:دورة تكوينية مجانية و مفتوحة لطلبة الدكتوراه.

تنظم هذه المحاضرات و الورشات على مستوى كلية الإعلام و الإتصال - جامعة قسنطينة 3.

 
LOCATION:Auditorium of the Faculty of Information and Communication Sciences - UC3.
END:VEVENT
END:VCALENDAR
