BEGIN:VCALENDAR
VERSION:2.0
PRODID:-//université constantine3 salah boubnider
CALSCALE:GREGORIAN
METHOD:PUBLISH
X-WR-CALNAME:université constantine3 salah boubnider
X-ORIGINAL-URL:https://univ-constantine3.dz/en/event/%d9%85%d9%84%d8%aa%d9%82%d9%89-%d9%88%d8%b7%d9%86%d9%8a-%d8%ad%d9%88%d9%84-%d8%aa%d8%b3%d9%8a%d9%8a%d8%b1-%d8%a7%d9%84%d9%85%d8%af%d9%8a%d9%86%d8%a9-%d8%a7%d9%84%d8%a7%d9%81%d8%b1%d9%8a%d9%82%d9%8a/
X-WR-CALDESC:ملتقى وطني حول تسيير المدينة الافريقية في ظل جائحة كوفيد19
BEGIN:VEVENT
DTSTART:
DTEND:
SUMMARY:ملتقى وطني حول تسيير المدينة الافريقية في ظل جائحة كوفيد19
DESCRIPTION:في الجزائر، بمجرد ظهور الحالات الأولى لـ كوفيد 19 ، اتخذت السلطات العمومية تدابيرا صارمة لضبط حركية الأشخاص ، داخل المدن وفيما بينها  
LOCATION:معهد التقنيات الحضربة  
END:VEVENT
END:VCALENDAR
