BEGIN:VCALENDAR
VERSION:2.0
PRODID:-//université constantine3 salah boubnider
CALSCALE:GREGORIAN
METHOD:PUBLISH
X-WR-CALNAME:université constantine3 salah boubnider
X-ORIGINAL-URL:https://univ-constantine3.dz/en/event/introduction-to-research-methodologies-quantitative-and-qualitative-approaches/
X-WR-CALDESC:Introduction to research methodologies &amp; quantitative and qualitative approaches
BEGIN:VEVENT
DTSTART:
DTEND:
SUMMARY:Introduction to research methodologies &amp; quantitative and qualitative approaches
DESCRIPTION:25 /05/2021: Conference and online workshop  
LOCATION:Auditorium of the Faculty of Information and Communication Sciences
END:VEVENT
END:VCALENDAR
