BEGIN:VCALENDAR
VERSION:2.0
PRODID:-//université constantine3 salah boubnider
CALSCALE:GREGORIAN
METHOD:PUBLISH
X-WR-CALNAME:université constantine3 salah boubnider
X-ORIGINAL-URL:https://univ-constantine3.dz/en/event/national-dissemination-day-mehmed-project/
X-WR-CALDESC:National dissemination day MEHmed project
BEGIN:VEVENT
DTSTART:
DTEND:
SUMMARY:National dissemination day MEHmed project
DESCRIPTION:Program, Assessment and Perspectives.
LOCATION:institute of management of urban techniques - university of constantine3 Salah BOUBNIDER
END:VEVENT
END:VCALENDAR
