BEGIN:VCALENDAR
VERSION:2.0
PRODID:-//université constantine3 salah boubnider
CALSCALE:GREGORIAN
METHOD:PUBLISH
X-WR-CALNAME:université constantine3 salah boubnider
X-ORIGINAL-URL:https://univ-constantine3.dz/en/event/training-for-future-entrepreneurs/
X-WR-CALDESC:Training for future entrepreneurs
BEGIN:VEVENT
DTSTART:
DTEND:
SUMMARY:Training for future entrepreneurs
DESCRIPTION:
LOCATION:
END:VEVENT
END:VCALENDAR
